BEGIN:VCALENDAR
VERSION:2.0
PRODID:-// - ECPv6.15.20//NONSGML v1.0//EN
CALSCALE:GREGORIAN
METHOD:PUBLISH
X-ORIGINAL-URL:https://deverbinderij.nl
X-WR-CALDESC:Evenementen voor 
REFRESH-INTERVAL;VALUE=DURATION:PT1H
X-Robots-Tag:noindex
X-PUBLISHED-TTL:PT1H
BEGIN:VTIMEZONE
TZID:UTC
BEGIN:STANDARD
TZOFFSETFROM:+0000
TZOFFSETTO:+0000
TZNAME:UTC
DTSTART:20220101T000000
END:STANDARD
END:VTIMEZONE
BEGIN:VEVENT
DTSTART;TZID=UTC:20231227T193000
DTEND;TZID=UTC:20231227T210000
DTSTAMP:20260419T124359
CREATED:20231121T194950Z
LAST-MODIFIED:20231215T133550Z
UID:305-1703705400-1703710800@deverbinderij.nl
SUMMARY:27 december "ontspannen bij volle maan"
DESCRIPTION:Behoefte aan ontspanning? Even los uit de dagelijkse sleur…. \n\n\n\nJe bent welkom voor een klankenbad bij de volle maan van 27 december in mijn praktijk om 19.30 uur. \n\n\n\nLaat je meevoeren door de klanken en trillingen van Tibetaanse klankschalen\, koschi en thingsja. \n\n\n\nVoor meer informatie en aanmelden\, neem contact op met Martine. \n\n\n\nVolgende ontspannen bij volle maan: 25 januari\, 24 februari\, 25 maart
URL:https://deverbinderij.nl/event/27-december-ontspannen-bij-volle-maan/
END:VEVENT
BEGIN:VEVENT
DTSTART;TZID=UTC:20231127T193000
DTEND;TZID=UTC:20231127T210000
DTSTAMP:20260419T124359
CREATED:20231120T074459Z
LAST-MODIFIED:20231121T194633Z
UID:136-1701113400-1701118800@deverbinderij.nl
SUMMARY:27 november "Ontspannen bij volle maan"
DESCRIPTION:Behoefte aan ontspanning? Even los uit de dagelijkse sleur…. \n\n\n\nJe bent welkom voor een klankenbad bij de volle maan van 27 november in mijn praktijk om 19.30 uur. \n\n\n\nLaat je meevoeren door de klanken en trillingen van Tibetaanse klankschalen\, koschi en thingsja. \n\n\n\nVoor meer informatie en aanmelden\, neem contact op met Martine. \n\n\n\nKosten: €25 \n\n\n\nVolgende ontspannen bij volle maan: 27 december
URL:https://deverbinderij.nl/event/27-november-ontspannen-bij-volle-maan/
ATTACH;FMTTYPE=image/jpeg:https://deverbinderij.nl/wp-content/uploads/2023/11/foto-over-martine.jpg
END:VEVENT
END:VCALENDAR